BEGIN:VCALENDAR
VERSION:2.0
PRODID:-//LAURACO - ECPv6.15.20//NONSGML v1.0//EN
CALSCALE:GREGORIAN
METHOD:PUBLISH
X-ORIGINAL-URL:https://lauraco.fr
X-WR-CALDESC:Évènements pour LAURACO
REFRESH-INTERVAL;VALUE=DURATION:PT1H
X-Robots-Tag:noindex
X-PUBLISHED-TTL:PT1H
BEGIN:VTIMEZONE
TZID:Europe/Paris
BEGIN:DAYLIGHT
TZOFFSETFROM:+0100
TZOFFSETTO:+0200
TZNAME:CEST
DTSTART:20240331T010000
END:DAYLIGHT
BEGIN:STANDARD
TZOFFSETFROM:+0200
TZOFFSETTO:+0100
TZNAME:CET
DTSTART:20241027T010000
END:STANDARD
BEGIN:DAYLIGHT
TZOFFSETFROM:+0100
TZOFFSETTO:+0200
TZNAME:CEST
DTSTART:20250330T010000
END:DAYLIGHT
BEGIN:STANDARD
TZOFFSETFROM:+0200
TZOFFSETTO:+0100
TZNAME:CET
DTSTART:20251026T010000
END:STANDARD
BEGIN:DAYLIGHT
TZOFFSETFROM:+0100
TZOFFSETTO:+0200
TZNAME:CEST
DTSTART:20260329T010000
END:DAYLIGHT
BEGIN:STANDARD
TZOFFSETFROM:+0200
TZOFFSETTO:+0100
TZNAME:CET
DTSTART:20261025T010000
END:STANDARD
END:VTIMEZONE
BEGIN:VEVENT
DTSTART;VALUE=DATE:20250315
DTEND;VALUE=DATE:20250316
DTSTAMP:20260421T161005
CREATED:20241009T191019Z
LAST-MODIFIED:20241009T191019Z
UID:10082-1741996800-1742083199@lauraco.fr
SUMMARY:LOST 2024 E5
DESCRIPTION:
URL:https://lauraco.fr/evenement/lost-2024-e5/
CATEGORIES:Pedestre
END:VEVENT
BEGIN:VEVENT
DTSTART;VALUE=DATE:20250315
DTEND;VALUE=DATE:20250317
DTSTAMP:20260421T161005
CREATED:20241122T121157Z
LAST-MODIFIED:20250114T145514Z
UID:10125-1741996800-1742169599@lauraco.fr
SUMMARY:O Sud Ardèche MD 2025
DESCRIPTION:CDL MD et Sprint le 15. Entrainement le 16
URL:https://lauraco.fr/evenement/o-sud-ardeche-md-2025/
LOCATION:La Chapelle sous Aubenas
CATEGORIES:CDL,CN,Raid
ORGANIZER;CN="0705 - RAIDLINK'S 07":MAILTO:contact@raidlinks.fr
END:VEVENT
BEGIN:VEVENT
DTSTART;VALUE=DATE:20250315
DTEND;VALUE=DATE:20250316
DTSTAMP:20260421T161005
CREATED:20250116T133424Z
LAST-MODIFIED:20250116T133424Z
UID:10246-1741996800-1742083199@lauraco.fr
SUMMARY:Challenge Savoyard 2025 1
DESCRIPTION:
URL:https://lauraco.fr/evenement/challenge-savoyard-2025-1/
LOCATION:La Motte Servolex\, 73290
CATEGORIES:Pedestre
ORGANIZER;CN="7305 - ESPACE CHAMBERY ORIENTATION 73 - ECHO 73":MAILTO:karoclerc@yahoo.fr
END:VEVENT
BEGIN:VEVENT
DTSTART;VALUE=DATE:20250316
DTEND;VALUE=DATE:20250317
DTSTAMP:20260421T161005
CREATED:20250130T170807Z
LAST-MODIFIED:20250130T170807Z
UID:10299-1742083200-1742169599@lauraco.fr
SUMMARY:Ain Tour de CO 2025 Etape N°1
DESCRIPTION:
URL:https://lauraco.fr/evenement/ain-tour-de-co-2025-etape-n1/
LOCATION:Ambronay\, 01500
CATEGORIES:CO à VTT
ORGANIZER;CN="0109 - O'BUGEY":MAILTO:maitefaillard@hotmail.com
END:VEVENT
BEGIN:VEVENT
DTSTART;VALUE=DATE:20250322
DTEND;VALUE=DATE:20250323
DTSTAMP:20260421T161005
CREATED:20250317T150723Z
LAST-MODIFIED:20250317T150723Z
UID:10397-1742601600-1742687999@lauraco.fr
SUMMARY:ANOlympique 2025 2
DESCRIPTION:
URL:https://lauraco.fr/evenement/anolympique-2025-2/
LOCATION:Cevins\, 73063
CATEGORIES:Pedestre
ORGANIZER;CN="7311 - ALBERTVILLE NATURE ORIENTATION":MAILTO:ano-co@lilo.org
END:VEVENT
BEGIN:VEVENT
DTSTART;VALUE=DATE:20250323
DTEND;VALUE=DATE:20250324
DTSTAMP:20260421T161005
CREATED:20241122T121316Z
LAST-MODIFIED:20241122T121316Z
UID:10127-1742688000-1742774399@lauraco.fr
SUMMARY:RANDO COPIDO 2025
DESCRIPTION:
URL:https://lauraco.fr/evenement/rando-copido-2025/
CATEGORIES:Rand'Orientation
ORGANIZER;CN="6917 - COPIDO":MAILTO:contact@copido.fr
END:VEVENT
BEGIN:VEVENT
DTSTART;VALUE=DATE:20250329
DTEND;VALUE=DATE:20250330
DTSTAMP:20260421T161005
CREATED:20241226T121643Z
LAST-MODIFIED:20241226T121643Z
UID:10177-1743206400-1743292799@lauraco.fr
SUMMARY:Relais à 2 CO Ambérieu
DESCRIPTION:
URL:https://lauraco.fr/evenement/relais-a-2-co-amberieu/
LOCATION:Amberieu en Bugey (01)\, amberieu en bugey\, 01500\, France
CATEGORIES:Pedestre
ORGANIZER;CN="0111 - CLUB D'ORIENTATION D'AMBERIEU EN BUGEY":MAILTO:csa.co.amberieu@gmail.com
END:VEVENT
BEGIN:VEVENT
DTSTART;VALUE=DATE:20250329
DTEND;VALUE=DATE:20250330
DTSTAMP:20260421T161005
CREATED:20250220T141547Z
LAST-MODIFIED:20250220T141547Z
UID:10346-1743206400-1743292799@lauraco.fr
SUMMARY:O'LAC 2025 1
DESCRIPTION:
URL:https://lauraco.fr/evenement/olac-2025-1/
CATEGORIES:Pedestre
ORGANIZER;CN="7404 - ANNECY SPORTS ORIENTATION":MAILTO:7404ra@annecyso.fr
END:VEVENT
BEGIN:VEVENT
DTSTART;VALUE=DATE:20250330
DTEND;VALUE=DATE:20250331
DTSTAMP:20260421T161005
CREATED:20250127T104838Z
LAST-MODIFIED:20250127T104838Z
UID:10284-1743292800-1743379199@lauraco.fr
SUMMARY:Rogaine Saint Perey
DESCRIPTION:
URL:https://lauraco.fr/evenement/rogaine-saint-perey/
LOCATION:Saint Peray (07)\, 07130\, France
CATEGORIES:Pedestre
END:VEVENT
BEGIN:VEVENT
DTSTART;VALUE=DATE:20250330
DTEND;VALUE=DATE:20250331
DTSTAMP:20260421T161005
CREATED:20250307T152401Z
LAST-MODIFIED:20250307T152422Z
UID:10376-1743292800-1743379199@lauraco.fr
SUMMARY:VERNETOISE 2025 Rogaine
DESCRIPTION:
URL:https://lauraco.fr/evenement/vernetoise-2025/
LOCATION:Le Vernet (03)
CATEGORIES:Pedestre
ORGANIZER;CN="CDCO 03":MAILTO:cd3@lauraco.fr
END:VEVENT
END:VCALENDAR