BEGIN:VCALENDAR
VERSION:2.0
PRODID:-//LAURACO - ECPv6.15.20//NONSGML v1.0//EN
CALSCALE:GREGORIAN
METHOD:PUBLISH
X-WR-CALNAME:LAURACO
X-ORIGINAL-URL:https://lauraco.fr
X-WR-CALDESC:Évènements pour LAURACO
REFRESH-INTERVAL;VALUE=DURATION:PT1H
X-Robots-Tag:noindex
X-PUBLISHED-TTL:PT1H
BEGIN:VTIMEZONE
TZID:Europe/Paris
BEGIN:DAYLIGHT
TZOFFSETFROM:+0100
TZOFFSETTO:+0200
TZNAME:CEST
DTSTART:20240331T010000
END:DAYLIGHT
BEGIN:STANDARD
TZOFFSETFROM:+0200
TZOFFSETTO:+0100
TZNAME:CET
DTSTART:20241027T010000
END:STANDARD
BEGIN:DAYLIGHT
TZOFFSETFROM:+0100
TZOFFSETTO:+0200
TZNAME:CEST
DTSTART:20250330T010000
END:DAYLIGHT
BEGIN:STANDARD
TZOFFSETFROM:+0200
TZOFFSETTO:+0100
TZNAME:CET
DTSTART:20251026T010000
END:STANDARD
BEGIN:DAYLIGHT
TZOFFSETFROM:+0100
TZOFFSETTO:+0200
TZNAME:CEST
DTSTART:20260329T010000
END:DAYLIGHT
BEGIN:STANDARD
TZOFFSETFROM:+0200
TZOFFSETTO:+0100
TZNAME:CET
DTSTART:20261025T010000
END:STANDARD
END:VTIMEZONE
BEGIN:VEVENT
DTSTART;VALUE=DATE:20250209
DTEND;VALUE=DATE:20250210
DTSTAMP:20260421T175108
CREATED:20241226T121520Z
LAST-MODIFIED:20250127T105220Z
UID:10175-1739059200-1739145599@lauraco.fr
SUMMARY:Challenge Isérois 2025 1
DESCRIPTION:
URL:https://lauraco.fr/evenement/challenge-iserois-2025-fevrier/
LOCATION:Echirolles (38)\, France
CATEGORIES:Pedestre
ORGANIZER;CN="3811 - GRENOBLE UNIVERSITE CLUB COURSE D'ORIENTATION":MAILTO:gucco@free.fr
END:VEVENT
BEGIN:VEVENT
DTSTART;VALUE=DATE:20250215
DTEND;VALUE=DATE:20250216
DTSTAMP:20260421T175108
CREATED:20241009T190927Z
LAST-MODIFIED:20241009T190927Z
UID:10080-1739577600-1739663999@lauraco.fr
SUMMARY:LOST 2024 E4
DESCRIPTION:
URL:https://lauraco.fr/evenement/lost-2024-e4/
CATEGORIES:Pedestre
END:VEVENT
BEGIN:VEVENT
DTSTART;VALUE=DATE:20250215
DTEND;VALUE=DATE:20250216
DTSTAMP:20260421T175108
CREATED:20250127T105014Z
LAST-MODIFIED:20250127T105210Z
UID:10287-1739577600-1739663999@lauraco.fr
SUMMARY:Challenge Isérois 2025 2
DESCRIPTION:
URL:https://lauraco.fr/evenement/challenge-iserois-2025-1/
LOCATION:Grenoble\, 38000\, France
CATEGORIES:Pedestre
ORGANIZER;CN="3810 - ORIENT'ALP":MAILTO:contact@orientalp.fr
END:VEVENT
BEGIN:VEVENT
DTSTART;VALUE=DATE:20250215
DTEND;VALUE=DATE:20250216
DTSTAMP:20260421T175108
CREATED:20250220T141502Z
LAST-MODIFIED:20250220T141502Z
UID:10344-1739577600-1739663999@lauraco.fr
SUMMARY:Challenge Savoyard 2025 1
DESCRIPTION:
URL:https://lauraco.fr/evenement/challenge-savoyard-2025-1-2/
CATEGORIES:Pedestre
ORGANIZER;CN="7305 - ESPACE CHAMBERY ORIENTATION 73 - ECHO 73":MAILTO:karoclerc@yahoo.fr
END:VEVENT
END:VCALENDAR