BEGIN:VCALENDAR
VERSION:2.0
PRODID:-//LAURACO - ECPv6.15.20//NONSGML v1.0//EN
CALSCALE:GREGORIAN
METHOD:PUBLISH
X-ORIGINAL-URL:https://lauraco.fr
X-WR-CALDESC:Évènements pour LAURACO
REFRESH-INTERVAL;VALUE=DURATION:PT1H
X-Robots-Tag:noindex
X-PUBLISHED-TTL:PT1H
BEGIN:VTIMEZONE
TZID:Europe/Paris
BEGIN:DAYLIGHT
TZOFFSETFROM:+0100
TZOFFSETTO:+0200
TZNAME:CEST
DTSTART:20240331T010000
END:DAYLIGHT
BEGIN:STANDARD
TZOFFSETFROM:+0200
TZOFFSETTO:+0100
TZNAME:CET
DTSTART:20241027T010000
END:STANDARD
BEGIN:DAYLIGHT
TZOFFSETFROM:+0100
TZOFFSETTO:+0200
TZNAME:CEST
DTSTART:20250330T010000
END:DAYLIGHT
BEGIN:STANDARD
TZOFFSETFROM:+0200
TZOFFSETTO:+0100
TZNAME:CET
DTSTART:20251026T010000
END:STANDARD
BEGIN:DAYLIGHT
TZOFFSETFROM:+0100
TZOFFSETTO:+0200
TZNAME:CEST
DTSTART:20260329T010000
END:DAYLIGHT
BEGIN:STANDARD
TZOFFSETFROM:+0200
TZOFFSETTO:+0100
TZNAME:CET
DTSTART:20261025T010000
END:STANDARD
END:VTIMEZONE
BEGIN:VEVENT
DTSTART;VALUE=DATE:20250111
DTEND;VALUE=DATE:20250113
DTSTAMP:20260423T130250
CREATED:20241109T160114Z
LAST-MODIFIED:20241109T160114Z
UID:10119-1736553600-1736726399@lauraco.fr
SUMMARY:Drôme Village Tour 2025
DESCRIPTION:
URL:https://lauraco.fr/evenement/drome-village-tour-2025/
CATEGORIES:Pedestre
ORGANIZER;CN="2604 - CLUB DE ROMANS DE COURSE D'ORIENTATION":MAILTO:coromans2604@gmail.com
END:VEVENT
BEGIN:VEVENT
DTSTART;VALUE=DATE:20250114
DTEND;VALUE=DATE:20250115
DTSTAMP:20260423T130250
CREATED:20250114T145337Z
LAST-MODIFIED:20250114T145337Z
UID:10226-1736812800-1736899199@lauraco.fr
SUMMARY:Vendredi O'Night 2025 février
DESCRIPTION:
URL:https://lauraco.fr/evenement/vendredi-onight-2025-fevrier/
CATEGORIES:Pedestre
END:VEVENT
BEGIN:VEVENT
DTSTART;VALUE=DATE:20250118
DTEND;VALUE=DATE:20250119
DTSTAMP:20260423T130250
CREATED:20240930T133554Z
LAST-MODIFIED:20240930T133554Z
UID:10065-1737158400-1737244799@lauraco.fr
SUMMARY:Lugd'O Night 2025
DESCRIPTION:
URL:https://lauraco.fr/evenement/lugdo-night-2025/
LOCATION:Lyon\, France
CATEGORIES:Pedestre
END:VEVENT
BEGIN:VEVENT
DTSTART;VALUE=DATE:20250118
DTEND;VALUE=DATE:20250119
DTSTAMP:20260423T130250
CREATED:20241009T190844Z
LAST-MODIFIED:20241009T190844Z
UID:10078-1737158400-1737244799@lauraco.fr
SUMMARY:LOST 2024 E3
DESCRIPTION:
URL:https://lauraco.fr/evenement/lost-2024-e3/
LOCATION:Rochetaillée
CATEGORIES:Pedestre
END:VEVENT
BEGIN:VEVENT
DTSTART;VALUE=DATE:20250118
DTEND;VALUE=DATE:20250119
DTSTAMP:20260423T130250
CREATED:20241226T121226Z
LAST-MODIFIED:20241226T121226Z
UID:10173-1737158400-1737244799@lauraco.fr
SUMMARY:Lugd'O Night 2025
DESCRIPTION:
URL:https://lauraco.fr/evenement/lugdo-night-2025-2/
LOCATION:Lyon\, France
CATEGORIES:Pedestre
END:VEVENT
BEGIN:VEVENT
DTSTART;VALUE=DATE:20250122
DTEND;VALUE=DATE:20250123
DTSTAMP:20260423T130250
CREATED:20250114T145109Z
LAST-MODIFIED:20250114T145109Z
UID:10224-1737504000-1737590399@lauraco.fr
SUMMARY:ANOlympique 2025 1
DESCRIPTION:https://anocourseorientation.wixsite.com/a-n-o
URL:https://lauraco.fr/evenement/anolympique-2025-1/
LOCATION:Albertville\, Albertville\, 73200
CATEGORIES:Pedestre
ORGANIZER;CN="7311 - ALBERTVILLE NATURE ORIENTATION":MAILTO:ano-co@lilo.org
END:VEVENT
END:VCALENDAR