BEGIN:VCALENDAR
VERSION:2.0
PRODID:-//LAURACO - ECPv6.15.20//NONSGML v1.0//EN
CALSCALE:GREGORIAN
METHOD:PUBLISH
X-WR-CALNAME:LAURACO
X-ORIGINAL-URL:https://lauraco.fr
X-WR-CALDESC:Évènements pour LAURACO
REFRESH-INTERVAL;VALUE=DURATION:PT1H
X-Robots-Tag:noindex
X-PUBLISHED-TTL:PT1H
BEGIN:VTIMEZONE
TZID:Europe/Paris
BEGIN:DAYLIGHT
TZOFFSETFROM:+0100
TZOFFSETTO:+0200
TZNAME:CEST
DTSTART:20230326T010000
END:DAYLIGHT
BEGIN:STANDARD
TZOFFSETFROM:+0200
TZOFFSETTO:+0100
TZNAME:CET
DTSTART:20231029T010000
END:STANDARD
BEGIN:DAYLIGHT
TZOFFSETFROM:+0100
TZOFFSETTO:+0200
TZNAME:CEST
DTSTART:20240331T010000
END:DAYLIGHT
BEGIN:STANDARD
TZOFFSETFROM:+0200
TZOFFSETTO:+0100
TZNAME:CET
DTSTART:20241027T010000
END:STANDARD
BEGIN:DAYLIGHT
TZOFFSETFROM:+0100
TZOFFSETTO:+0200
TZNAME:CEST
DTSTART:20250330T010000
END:DAYLIGHT
BEGIN:STANDARD
TZOFFSETFROM:+0200
TZOFFSETTO:+0100
TZNAME:CET
DTSTART:20251026T010000
END:STANDARD
END:VTIMEZONE
BEGIN:VEVENT
DTSTART;VALUE=DATE:20241201
DTEND;VALUE=DATE:20241202
DTSTAMP:20260421T103126
CREATED:20241008T111259Z
LAST-MODIFIED:20241008T111259Z
UID:10071-1733011200-1733097599@lauraco.fr
SUMMARY:Challenge Isérois 2024 E3
DESCRIPTION:
URL:https://lauraco.fr/evenement/challenge-iserois-2024-e3/
CATEGORIES:Pedestre
ORGANIZER;CN="3811 - GRENOBLE UNIVERSITE CLUB COURSE D'ORIENTATION":MAILTO:gucco@free.fr
END:VEVENT
BEGIN:VEVENT
DTSTART;VALUE=DATE:20241207
DTEND;VALUE=DATE:20241208
DTSTAMP:20260421T103126
CREATED:20241009T190753Z
LAST-MODIFIED:20241009T190753Z
UID:10076-1733529600-1733615999@lauraco.fr
SUMMARY:LOST 2024 E2
DESCRIPTION:
URL:https://lauraco.fr/evenement/lost-2024-e2/
LOCATION:La Loge des Gardes\, Laprugne\, 03250\, France
CATEGORIES:Pedestre
END:VEVENT
BEGIN:VEVENT
DTSTART;VALUE=DATE:20241213
DTEND;VALUE=DATE:20241214
DTSTAMP:20260421T103126
CREATED:20241202T101333Z
LAST-MODIFIED:20241202T101333Z
UID:10170-1734048000-1734134399@lauraco.fr
SUMMARY:Vendredi O'Night 2024
DESCRIPTION:
URL:https://lauraco.fr/evenement/vendredi-onight-2024/
LOCATION:Vals les bains (07)\, Vals les Bains\, 7600\, France
CATEGORIES:Pedestre
END:VEVENT
BEGIN:VEVENT
DTSTART;VALUE=DATE:20241214
DTEND;VALUE=DATE:20241215
DTSTAMP:20260421T103126
CREATED:20231208T130603Z
LAST-MODIFIED:20231208T130603Z
UID:9699-1734134400-1734220799@lauraco.fr
SUMMARY:CO des loupiottes 2024
DESCRIPTION:Animation
URL:https://lauraco.fr/evenement/co-des-loupiottes-2024/
CATEGORIES:Pedestre
ORGANIZER;CN="6917 - COPIDO":MAILTO:contact@copido.fr
END:VEVENT
BEGIN:VEVENT
DTSTART;VALUE=DATE:20241215
DTEND;VALUE=DATE:20241216
DTSTAMP:20260421T103126
CREATED:20241109T160212Z
LAST-MODIFIED:20241122T121039Z
UID:10121-1734220800-1734307199@lauraco.fr
SUMMARY:Challenge Savoyard 2024 7
DESCRIPTION:
URL:https://lauraco.fr/evenement/challenge-savoyard-2024-7/
LOCATION:Barby\, 73230
CATEGORIES:Pedestre
ORGANIZER;CN="7305 - ESPACE CHAMBERY ORIENTATION 73 - ECHO 73":MAILTO:karoclerc@yahoo.fr
END:VEVENT
END:VCALENDAR