BEGIN:VCALENDAR
VERSION:2.0
PRODID:-//LAURACO - ECPv6.15.20//NONSGML v1.0//EN
CALSCALE:GREGORIAN
METHOD:PUBLISH
X-WR-CALNAME:LAURACO
X-ORIGINAL-URL:https://lauraco.fr
X-WR-CALDESC:Évènements pour LAURACO
REFRESH-INTERVAL;VALUE=DURATION:PT1H
X-Robots-Tag:noindex
X-PUBLISHED-TTL:PT1H
BEGIN:VTIMEZONE
TZID:Europe/Paris
BEGIN:DAYLIGHT
TZOFFSETFROM:+0100
TZOFFSETTO:+0200
TZNAME:CEST
DTSTART:20210328T010000
END:DAYLIGHT
BEGIN:STANDARD
TZOFFSETFROM:+0200
TZOFFSETTO:+0100
TZNAME:CET
DTSTART:20211031T010000
END:STANDARD
BEGIN:DAYLIGHT
TZOFFSETFROM:+0100
TZOFFSETTO:+0200
TZNAME:CEST
DTSTART:20220327T010000
END:DAYLIGHT
BEGIN:STANDARD
TZOFFSETFROM:+0200
TZOFFSETTO:+0100
TZNAME:CET
DTSTART:20221030T010000
END:STANDARD
BEGIN:DAYLIGHT
TZOFFSETFROM:+0100
TZOFFSETTO:+0200
TZNAME:CEST
DTSTART:20230326T010000
END:DAYLIGHT
BEGIN:STANDARD
TZOFFSETFROM:+0200
TZOFFSETTO:+0100
TZNAME:CET
DTSTART:20231029T010000
END:STANDARD
END:VTIMEZONE
BEGIN:VEVENT
DTSTART;VALUE=DATE:20220903
DTEND;VALUE=DATE:20220905
DTSTAMP:20260424T181546
CREATED:20211220T170717Z
LAST-MODIFIED:20220120T081926Z
UID:8431-1662163200-1662335999@lauraco.fr
SUMMARY:Raid Orient'Alpin 2022
DESCRIPTION:
URL:https://lauraco.fr/evenement/raid-orientalpin-2022/
CATEGORIES:Raid
ORGANIZER;CN="3810 - ORIENT'ALP":MAILTO:contact@orientalp.fr
END:VEVENT
BEGIN:VEVENT
DTSTART;VALUE=DATE:20220904
DTEND;VALUE=DATE:20220905
DTSTAMP:20260424T181546
CREATED:20220103T083332Z
LAST-MODIFIED:20220103T083332Z
UID:8498-1662249600-1662335999@lauraco.fr
SUMMARY:AIN TOUR DE CO 2022 8
DESCRIPTION:
URL:https://lauraco.fr/evenement/ain-tour-de-co-2022-8/
LOCATION:Tossiat\, 01250
CATEGORIES:Pedestre
ORGANIZER;CN="0111 - CLUB D'ORIENTATION D'AMBERIEU EN BUGEY":MAILTO:csa.co.amberieu@gmail.com
END:VEVENT
BEGIN:VEVENT
DTSTART;VALUE=DATE:20220911
DTEND;VALUE=DATE:20220912
DTSTAMP:20260424T181546
CREATED:20211220T172819Z
LAST-MODIFIED:20220629T162858Z
UID:8460-1662854400-1662940799@lauraco.fr
SUMMARY:Championnat de Ligue de Sprint 2022 et relais-sprint
DESCRIPTION:
URL:https://lauraco.fr/evenement/championnat-de-ligue-de-sprint-2022/
LOCATION:Guilherand-Granges\, 07500
CATEGORIES:CDL,CN,Pedestre
END:VEVENT
BEGIN:VEVENT
DTSTART;VALUE=DATE:20220918
DTEND;VALUE=DATE:20220919
DTSTAMP:20260424T181546
CREATED:20211220T173046Z
LAST-MODIFIED:20211220T173046Z
UID:8462-1663459200-1663545599@lauraco.fr
SUMMARY:DUO COPIDO 2022 Championnat de Ligue O'VTT MD
DESCRIPTION:
URL:https://lauraco.fr/evenement/duo-copido-2022-championnat-de-ligue-ovtt-md/
LOCATION:Pommier (69)\, 69400
CATEGORIES:CDL,CN,CO à VTT
ORGANIZER;CN="6917 - COPIDO":MAILTO:contact@copido.fr
END:VEVENT
BEGIN:VEVENT
DTSTART;VALUE=DATE:20220918
DTEND;VALUE=DATE:20220919
DTSTAMP:20260424T181546
CREATED:20211220T173156Z
LAST-MODIFIED:20211220T173207Z
UID:8464-1663459200-1663545599@lauraco.fr
SUMMARY:DUO COPIDO 2022 MD pédestre
DESCRIPTION:
URL:https://lauraco.fr/evenement/duo-copido-2022/
LOCATION:Pommier (69)\, 69400
CATEGORIES:CDL,CN,Pedestre
ORGANIZER;CN="6917 - COPIDO":MAILTO:contact@copido.fr
END:VEVENT
BEGIN:VEVENT
DTSTART;VALUE=DATE:20220924
DTEND;VALUE=DATE:20220926
DTSTAMP:20260424T181546
CREATED:20211222T070148Z
LAST-MODIFIED:20211222T070148Z
UID:8492-1663977600-1664150399@lauraco.fr
SUMMARY:Championnat de France O'VTT 2022 MD et Clubs
DESCRIPTION:
URL:https://lauraco.fr/evenement/championnat-de-france-ovtt-2022-md-et-clubs/
LOCATION:Bouvante\, 26190
CATEGORIES:CDL,CN,CO à VTT,Nationale
ORGANIZER;CN="CDCO 26":MAILTO:cdco.drome@gmail.com
END:VEVENT
BEGIN:VEVENT
DTSTART;VALUE=DATE:20220928
DTEND;VALUE=DATE:20220929
DTSTAMP:20260424T181546
CREATED:20220917T160306Z
LAST-MODIFIED:20220917T160306Z
UID:8852-1664323200-1664409599@lauraco.fr
SUMMARY:Challenge Savoyard 2022
DESCRIPTION:
URL:https://lauraco.fr/evenement/challenge-savoyard-2022/
LOCATION:La Motte Servolex\, 73290
CATEGORIES:Pedestre
ORGANIZER;CN="7305 - ESPACE CHAMBERY ORIENTATION 73 - ECHO 73":MAILTO:karoclerc@yahoo.fr
END:VEVENT
END:VCALENDAR