BEGIN:VCALENDAR
VERSION:2.0
PRODID:-//LAURACO - ECPv6.15.20//NONSGML v1.0//EN
CALSCALE:GREGORIAN
METHOD:PUBLISH
X-WR-CALNAME:LAURACO
X-ORIGINAL-URL:https://lauraco.fr
X-WR-CALDESC:Évènements pour LAURACO
REFRESH-INTERVAL;VALUE=DURATION:PT1H
X-Robots-Tag:noindex
X-PUBLISHED-TTL:PT1H
BEGIN:VTIMEZONE
TZID:Europe/Paris
BEGIN:DAYLIGHT
TZOFFSETFROM:+0100
TZOFFSETTO:+0200
TZNAME:CEST
DTSTART:20200329T010000
END:DAYLIGHT
BEGIN:STANDARD
TZOFFSETFROM:+0200
TZOFFSETTO:+0100
TZNAME:CET
DTSTART:20201025T010000
END:STANDARD
BEGIN:DAYLIGHT
TZOFFSETFROM:+0100
TZOFFSETTO:+0200
TZNAME:CEST
DTSTART:20210328T010000
END:DAYLIGHT
BEGIN:STANDARD
TZOFFSETFROM:+0200
TZOFFSETTO:+0100
TZNAME:CET
DTSTART:20211031T010000
END:STANDARD
BEGIN:DAYLIGHT
TZOFFSETFROM:+0100
TZOFFSETTO:+0200
TZNAME:CEST
DTSTART:20220327T010000
END:DAYLIGHT
BEGIN:STANDARD
TZOFFSETFROM:+0200
TZOFFSETTO:+0100
TZNAME:CET
DTSTART:20221030T010000
END:STANDARD
END:VTIMEZONE
BEGIN:VEVENT
DTSTART;VALUE=DATE:20210206
DTEND;VALUE=DATE:20210208
DTSTAMP:20260426T024917
CREATED:20200629T200349Z
LAST-MODIFIED:20210125T114815Z
UID:6856-1612569600-1612742399@lauraco.fr
SUMMARY:CF Mass'Start LD O'Ski - Annulé
DESCRIPTION:
URL:https://lauraco.fr/evenement/cf-massstart-ld-oski/
CATEGORIES:CO à ski
ORGANIZER;CN="2605 - VALENCE SPORTS ORIENTATION":MAILTO:vso.2605@free.fr
END:VEVENT
BEGIN:VEVENT
DTSTART;VALUE=DATE:20210213
DTEND;VALUE=DATE:20210214
DTSTAMP:20260426T024917
CREATED:20201012T100117Z
LAST-MODIFIED:20210209T175331Z
UID:7230-1613174400-1613260799@lauraco.fr
SUMMARY:LOST 4 Hiver 2021 - Annulé
DESCRIPTION:
URL:https://lauraco.fr/evenement/lost-4-hiver-2021/
CATEGORIES:Pedestre
END:VEVENT
BEGIN:VEVENT
DTSTART;VALUE=DATE:20210220
DTEND;VALUE=DATE:20210221
DTSTAMP:20260426T024917
CREATED:20201202T170650Z
LAST-MODIFIED:20210209T175349Z
UID:7474-1613779200-1613865599@lauraco.fr
SUMMARY:Départementale CROCO 2021 1 - Annulé
DESCRIPTION:
URL:https://lauraco.fr/evenement/departementale-croco-2021-1/
LOCATION:Drôme des collines
CATEGORIES:Pedestre
ORGANIZER;CN="2604 - CLUB DE ROMANS DE COURSE D'ORIENTATION":MAILTO:coromans2604@gmail.com
END:VEVENT
BEGIN:VEVENT
DTSTART;VALUE=DATE:20210227
DTEND;VALUE=DATE:20210228
DTSTAMP:20260426T024917
CREATED:20200718T161513Z
LAST-MODIFIED:20210122T162906Z
UID:6901-1614384000-1614470399@lauraco.fr
SUMMARY:Assemblée Générale LAURACO
DESCRIPTION:
URL:https://lauraco.fr/evenement/assemblee-generale-lauraco/
LOCATION:Villeurbanne
END:VEVENT
BEGIN:VEVENT
DTSTART;VALUE=DATE:20210227
DTEND;VALUE=DATE:20210228
DTSTAMP:20260426T024917
CREATED:20201027T114818Z
LAST-MODIFIED:20210209T180719Z
UID:7282-1614384000-1614470399@lauraco.fr
SUMMARY:Samedi c'est CO (Sprint en Ardèche) - Annulé
DESCRIPTION:2 sprints dans l’après-midi du 27/02 à Alissas et Chomérac\nNouvelles cartes à la norme\nUtilisation du système SIAC possible
URL:https://lauraco.fr/evenement/samedi-cest-co-sprint-en-ardeche/
LOCATION:Alissas\, 07210
CATEGORIES:Pedestre
END:VEVENT
BEGIN:VEVENT
DTSTART;VALUE=DATE:20210227
DTEND;VALUE=DATE:20210228
DTSTAMP:20260426T024917
CREATED:20201230T171701Z
LAST-MODIFIED:20210212T152316Z
UID:7509-1614384000-1614470399@lauraco.fr
SUMMARY:Ain tour de CO 2021 2 - Annulé
DESCRIPTION:Course O’Score
URL:https://lauraco.fr/evenement/ain-tour-de-co-2021-2/
LOCATION:Cerdon\, Cerdon\, 01450
CATEGORIES:Pedestre
ORGANIZER;CN="0109 - O'BUGEY":MAILTO:maitefaillard@hotmail.com
END:VEVENT
BEGIN:VEVENT
DTSTART;VALUE=DATE:20210228
DTEND;VALUE=DATE:20210301
DTSTAMP:20260426T024917
CREATED:20191204T155757Z
LAST-MODIFIED:20210209T180158Z
UID:6370-1614470400-1614556799@lauraco.fr
SUMMARY:Rhône Orientation 2020 - Annulé
DESCRIPTION:
URL:https://lauraco.fr/evenement/rhone-orientation-4/
LOCATION:Monsols\, France
CATEGORIES:Pedestre,Rand'Orientation
END:VEVENT
END:VCALENDAR