BEGIN:VCALENDAR
VERSION:2.0
PRODID:-//LAURACO - ECPv6.15.20//NONSGML v1.0//EN
CALSCALE:GREGORIAN
METHOD:PUBLISH
X-WR-CALNAME:LAURACO
X-ORIGINAL-URL:https://lauraco.fr
X-WR-CALDESC:Évènements pour LAURACO
REFRESH-INTERVAL;VALUE=DURATION:PT1H
X-Robots-Tag:noindex
X-PUBLISHED-TTL:PT1H
BEGIN:VTIMEZONE
TZID:Europe/Paris
BEGIN:DAYLIGHT
TZOFFSETFROM:+0100
TZOFFSETTO:+0200
TZNAME:CEST
DTSTART:20160327T010000
END:DAYLIGHT
BEGIN:STANDARD
TZOFFSETFROM:+0200
TZOFFSETTO:+0100
TZNAME:CET
DTSTART:20161030T010000
END:STANDARD
BEGIN:DAYLIGHT
TZOFFSETFROM:+0100
TZOFFSETTO:+0200
TZNAME:CEST
DTSTART:20170326T010000
END:DAYLIGHT
BEGIN:STANDARD
TZOFFSETFROM:+0200
TZOFFSETTO:+0100
TZNAME:CET
DTSTART:20171029T010000
END:STANDARD
BEGIN:DAYLIGHT
TZOFFSETFROM:+0100
TZOFFSETTO:+0200
TZNAME:CEST
DTSTART:20180325T010000
END:DAYLIGHT
BEGIN:STANDARD
TZOFFSETFROM:+0200
TZOFFSETTO:+0100
TZNAME:CET
DTSTART:20181028T010000
END:STANDARD
END:VTIMEZONE
BEGIN:VEVENT
DTSTART;VALUE=DATE:20170513
DTEND;VALUE=DATE:20170514
DTSTAMP:20260422T144809
CREATED:20170202T211802Z
LAST-MODIFIED:20170202T211802Z
UID:3006-1494633600-1494719999@lauraco.fr
SUMMARY:Départementale LD
DESCRIPTION:
URL:https://lauraco.fr/evenement/departementale-ld/
LOCATION:Larnas (07)
CATEGORIES:CN,CO à VTT
ORGANIZER;CN="2606 - LOISIR ORIENTATION UNION PIERRELATTINE":MAILTO:loupcoraid@gmail.com
END:VEVENT
BEGIN:VEVENT
DTSTART;VALUE=DATE:20170514
DTEND;VALUE=DATE:20170515
DTSTAMP:20260422T144809
CREATED:20161129T203432Z
LAST-MODIFIED:20170510T065034Z
UID:2794-1494720000-1494806399@lauraco.fr
SUMMARY:Départementale CO à VTT - MD / ANNULEE
DESCRIPTION:
URL:https://lauraco.fr/evenement/departementale-co-a-vtt-md/
LOCATION:Montréal (07)\, 07110\, France
CATEGORIES:CO à VTT
END:VEVENT
END:VCALENDAR