BEGIN:VCALENDAR
VERSION:2.0
PRODID:-//LAURACO - ECPv6.15.20//NONSGML v1.0//EN
CALSCALE:GREGORIAN
METHOD:PUBLISH
X-ORIGINAL-URL:https://lauraco.fr
X-WR-CALDESC:Évènements pour LAURACO
REFRESH-INTERVAL;VALUE=DURATION:PT1H
X-Robots-Tag:noindex
X-PUBLISHED-TTL:PT1H
BEGIN:VTIMEZONE
TZID:Europe/Paris
BEGIN:DAYLIGHT
TZOFFSETFROM:+0100
TZOFFSETTO:+0200
TZNAME:CEST
DTSTART:20240331T010000
END:DAYLIGHT
BEGIN:STANDARD
TZOFFSETFROM:+0200
TZOFFSETTO:+0100
TZNAME:CET
DTSTART:20241027T010000
END:STANDARD
BEGIN:DAYLIGHT
TZOFFSETFROM:+0100
TZOFFSETTO:+0200
TZNAME:CEST
DTSTART:20250330T010000
END:DAYLIGHT
BEGIN:STANDARD
TZOFFSETFROM:+0200
TZOFFSETTO:+0100
TZNAME:CET
DTSTART:20251026T010000
END:STANDARD
BEGIN:DAYLIGHT
TZOFFSETFROM:+0100
TZOFFSETTO:+0200
TZNAME:CEST
DTSTART:20260329T010000
END:DAYLIGHT
BEGIN:STANDARD
TZOFFSETFROM:+0200
TZOFFSETTO:+0100
TZNAME:CET
DTSTART:20261025T010000
END:STANDARD
END:VTIMEZONE
BEGIN:VEVENT
DTSTART;VALUE=DATE:20250614
DTEND;VALUE=DATE:20250616
DTSTAMP:20260422T112113
CREATED:20241122T122824Z
LAST-MODIFIED:20250413T140554Z
UID:10138-1749859200-1750031999@lauraco.fr
SUMMARY:3\, 2\, Ain CO 2025
DESCRIPTION:Samedi 14/6 régionale MD\, départementale sprint long crépuscule\nDimanche 15/6: régionale LD
URL:https://lauraco.fr/evenement/3-2-ain-co-2025/
LOCATION:Aranc (01)\, France
CATEGORIES:CDL,CN,Pedestre
ORGANIZER;CN="0111 - CLUB D'ORIENTATION D'AMBERIEU EN BUGEY":MAILTO:csa.co.amberieu@gmail.com
END:VEVENT
BEGIN:VEVENT
DTSTART;VALUE=DATE:20250621
DTEND;VALUE=DATE:20250623
DTSTAMP:20260422T112113
CREATED:20241122T123014Z
LAST-MODIFIED:20241122T123014Z
UID:10141-1750464000-1750636799@lauraco.fr
SUMMARY:VERTACO 2025
DESCRIPTION:2 MD
URL:https://lauraco.fr/evenement/vertaco-2025/
LOCATION:Villard-de-Lans (38)\, 38250\, France
CATEGORIES:CDL,CN,Pedestre
ORGANIZER;CN="3811 - GRENOBLE UNIVERSITE CLUB COURSE D'ORIENTATION":MAILTO:gucco@free.fr
END:VEVENT
END:VCALENDAR