BEGIN:VCALENDAR
VERSION:2.0
PRODID:-//LAURACO - ECPv6.15.20//NONSGML v1.0//EN
CALSCALE:GREGORIAN
METHOD:PUBLISH
X-ORIGINAL-URL:https://lauraco.fr
X-WR-CALDESC:Évènements pour LAURACO
REFRESH-INTERVAL;VALUE=DURATION:PT1H
X-Robots-Tag:noindex
X-PUBLISHED-TTL:PT1H
BEGIN:VTIMEZONE
TZID:Europe/Paris
BEGIN:DAYLIGHT
TZOFFSETFROM:+0100
TZOFFSETTO:+0200
TZNAME:CEST
DTSTART:20180325T010000
END:DAYLIGHT
BEGIN:STANDARD
TZOFFSETFROM:+0200
TZOFFSETTO:+0100
TZNAME:CET
DTSTART:20181028T010000
END:STANDARD
BEGIN:DAYLIGHT
TZOFFSETFROM:+0100
TZOFFSETTO:+0200
TZNAME:CEST
DTSTART:20190331T010000
END:DAYLIGHT
BEGIN:STANDARD
TZOFFSETFROM:+0200
TZOFFSETTO:+0100
TZNAME:CET
DTSTART:20191027T010000
END:STANDARD
BEGIN:DAYLIGHT
TZOFFSETFROM:+0100
TZOFFSETTO:+0200
TZNAME:CEST
DTSTART:20200329T010000
END:DAYLIGHT
BEGIN:STANDARD
TZOFFSETFROM:+0200
TZOFFSETTO:+0100
TZNAME:CET
DTSTART:20201025T010000
END:STANDARD
END:VTIMEZONE
BEGIN:VEVENT
DTSTART;VALUE=DATE:20190921
DTEND;VALUE=DATE:20190922
DTSTAMP:20260424T233921
CREATED:20181125T195317Z
LAST-MODIFIED:20190829T073401Z
UID:5342-1569024000-1569110399@lauraco.fr
SUMMARY:CDL LD à Valleiry (74)
DESCRIPTION:Annonce de course valleiry 2019 (1)
URL:https://lauraco.fr/evenement/cdl-ld-en-haute-savoie/
LOCATION:Valleiry (74)\, France
CATEGORIES:CDL,CN,Pedestre
ORGANIZER;CN="7407 - SALLANCHES ORIENTATION SPORTIVE - GENEVOIS ORIENTATION":MAILTO:7407@lauraco.fr
END:VEVENT
BEGIN:VEVENT
DTSTART;VALUE=DATE:20190922
DTEND;VALUE=DATE:20190923
DTSTAMP:20260424T233921
CREATED:20180718T160627Z
LAST-MODIFIED:20190829T073421Z
UID:4894-1569110400-1569196799@lauraco.fr
SUMMARY:Championnat de ligue de sprint à Saint Julien en Genevois (74)
DESCRIPTION:Annonce de course championnat de ligue de sprint 2019 (1)
URL:https://lauraco.fr/evenement/championnat-de-ligue-de-sprint-en-haute-savoie/
LOCATION:Saint Julien en Genevois\, 74160\, France
CATEGORIES:CDL,CN,Pedestre
ORGANIZER;CN="7407 - SALLANCHES ORIENTATION SPORTIVE - GENEVOIS ORIENTATION":MAILTO:7407@lauraco.fr
END:VEVENT
BEGIN:VEVENT
DTSTART;VALUE=DATE:20190927
DTEND;VALUE=DATE:20190928
DTSTAMP:20260424T233921
CREATED:20180718T144200Z
LAST-MODIFIED:20181127T205817Z
UID:4874-1569542400-1569628799@lauraco.fr
SUMMARY:Coupe d'europe Juniors (JEC) en Ardèche
DESCRIPTION:
URL:https://lauraco.fr/evenement/coupe-deurope-juniors-jec-en-ardeche/
LOCATION:Ruoms (07)\, France
CATEGORIES:CN,Nationale
END:VEVENT
BEGIN:VEVENT
DTSTART;VALUE=DATE:20190927
DTEND;VALUE=DATE:20190928
DTSTAMP:20260424T233921
CREATED:20181127T205656Z
LAST-MODIFIED:20181127T205656Z
UID:5363-1569542400-1569628799@lauraco.fr
SUMMARY:JEC Open - Sprint
DESCRIPTION:
URL:https://lauraco.fr/evenement/jec-open-sprint/
LOCATION:Ruoms (07)\, France
CATEGORIES:CN,Pedestre
END:VEVENT
BEGIN:VEVENT
DTSTART;VALUE=DATE:20190928
DTEND;VALUE=DATE:20190929
DTSTAMP:20260424T233921
CREATED:20180718T144309Z
LAST-MODIFIED:20180718T144309Z
UID:4876-1569628800-1569715199@lauraco.fr
SUMMARY:Coupe d'europe Juniors (JEC) en Ardèche
DESCRIPTION:
URL:https://lauraco.fr/evenement/coupe-deurope-juniors-jec-en-ardeche-2/
CATEGORIES:CN,Nationale
END:VEVENT
BEGIN:VEVENT
DTSTART;VALUE=DATE:20190928
DTEND;VALUE=DATE:20190929
DTSTAMP:20260424T233921
CREATED:20181127T210358Z
LAST-MODIFIED:20181127T210358Z
UID:5367-1569628800-1569715199@lauraco.fr
SUMMARY:JEC Open - LD
DESCRIPTION:
URL:https://lauraco.fr/evenement/jec-open-ld/
LOCATION:Station de La Croix de Bauzon\, 7590\, France
CATEGORIES:CN,Pedestre
END:VEVENT
BEGIN:VEVENT
DTSTART;VALUE=DATE:20190929
DTEND;VALUE=DATE:20190930
DTSTAMP:20260424T233921
CREATED:20181130T203211Z
LAST-MODIFIED:20181130T203211Z
UID:5389-1569715200-1569801599@lauraco.fr
SUMMARY:JEC Open - MD Mass Start
DESCRIPTION:
URL:https://lauraco.fr/evenement/jec-open-md-mass-start-2/
LOCATION:Vesseaux (07)\, 7590\, France
CATEGORIES:CN,Pedestre
END:VEVENT
END:VCALENDAR